Workbook

Sheet 附件1汇总表
A1: 附件1
A2: 吴江区2025年生态补偿资金汇总表
F3: 单位：万元
A4: 镇(区) | B4: 水源地 | C4: 生态湿地村 | D4: 公益林 | E4: 风景名胜区 | F4: 镇（区）合计
A5: 吴江开发区 | C5: =附件3生态湿地!H16 -> 160 | D5: =附件4生态公益林!G4/10000 -> 95.64875 | E5: 81 | F5: =SUM(B5:E5) -> 336.64875
A6: 汾湖高新区 | C6: =附件3生态湿地!H21 -> 160 | D6: =附件4生态公益林!G5/10000 -> 90.306 | F6: =SUM(B6:E6) -> 250.306
A7: 吴江高新区(盛泽镇) | D7: =附件4生态公益林!G6/10000 -> 29.0685 | F7: =SUM(B7:E7) -> 29.0685
A8: 东太湖度假区(太湖新城) | B8: 250 | D8: =附件4生态公益林!G7/10000 -> 160.602 | F8: =SUM(B8:E8) -> 410.602
A9: 七都镇 | B9: 380 | C9: =附件3生态湿地!H7 -> 140 | D9: =附件4生态公益林!G8/10000 -> 41.80825 | F9: =SUM(B9:E9) -> 561.80825
A10: 桃源镇 | C10: =附件3生态湿地!H26 -> 200 | D10: =附件4生态公益林!G9/10000 -> 30.9595 | F10: =SUM(B10:E10) -> 230.9595
A11: 震泽镇 | C11: =附件3生态湿地!H12 -> 200 | D11: =附件4生态公益林!G10/10000 -> 31.09225 | F11: =SUM(B11:E11) -> 231.09225
A12: 平望镇 | D12: =附件4生态公益林!G11/10000 -> 44.4615 | F12: =SUM(B12:E12) -> 44.4615
A13: 合 计 | B13: =SUM(B5:B12) -> 630 | C13: =SUM(C5:C12) -> 860 | D13: =SUM(D5:D12) -> 523.94675 | E13: =SUM(E5:E12) -> 81 | F13: =SUM(F5:F12) -> 2094.9468

Sheet 附件2水源地村
A1: 附件2
A2: 吴江区2025年水源地村生态补偿资金明细表
A3: 序号 | B3: 镇(区) | C3: 村名 | D3: 补偿标准 （万元/村） | E3: 评分 | F3: 补偿资金 （万元） | G3: 已拨付 （万元） | H3: 本次拨付 (万元）
A4: 1 | B4: 东太湖度假区 (太湖新城) | C4: 沧州村 | D4: 120 | E4: 97.5 | F4: 120 | G4: 60 | H4: =F4-G4 -> 60
A5: 2 | C5: 圣牛村 | D5: 120 | E5: 97 | F5: 120 | G5: 60 | H5: =F5-G5 -> 60
A6: 3 | C6: 叶家港村 | D6: 140 | E6: 98.8 | F6: 140 | G6: 70 | H6: =F6-G6 -> 70
A7: 4 | C7: 姚家港村 | D7: 120 | E7: 96.5 | F7: 120 | G7: 60 | H7: =F7-G7 -> 60
A8: 小计 | D8: =SUM(D4:D7) -> 500 | F8: =SUM(F4:F7) -> 500 | G8: =SUM(G4:G7) -> 250 | H8: =SUM(H4:H7) -> 250
A9: 5 | B9: 七都镇 | C9: 联强村 | D9: 140 | E9: 95.8 | F9: 140 | G9: 70 | H9: =F9-G9 -> 70
A10: 6 | C10: 庙港村 | D10: 140 | E10: 95.8 | F10: 140 | G10: 70 | H10: =F10-G10 -> 70
A11: 7 | C11: 盛庄村 | D11: 120 | E11: 95.8 | F11: 120 | G11: 60 | H11: =F11-G11 -> 60
A12: 8 | C12: 渔村社区 | D12: 120 | E12: 92.7 | F12: 120 | G12: 60 | H12: =F12-G12 -> 60
A13: 9 | C13: 太浦闸村 | D13: 120 | E13: 95 | F13: 120 | G13: 60 | H13: =F13-G13 -> 60
A14: 10 | C14: 爃烂村 | D14: 120 | E14: 92.5 | F14: 120 | G14: 60 | H14: =F14-G14 -> 60
A15: 小计 | D15: =SUM(D9:D14) -> 760 | F15: =SUM(F9:F14) -> 760 | G15: =SUM(G9:G14) -> 380 | H15: =SUM(H9:H14) -> 380
A16: 合计 | D16: =D8+D15 -> 1260 | F16: =F8+F15 -> 1260 | G16: =G8+G15 -> 630 | H16: =H8+H15 -> 630

Sheet 附件3生态湿地
A1: 附件3
A2: 吴江区2025年生态湿地(森林)村生态补偿资金明细表
A3: 序号 | B3: 镇（区） | C3: 村名 | D3: 补偿标准 （万元/村） | E3: 评分 | F3: 补偿金额 （万元） | G3: 已拨付 （万元） | H3: 本次拨付 （万元） | I3: 镇级承担 （万元） | J3: 备注
A4: 1 | B4: 七都镇 | C4: 陆港村 | D4: 80 | E4: 98.07 | F4: 80 | G4: 40 | H4: =F4-G4 -> 40 | I4: 0 | J4: 太湖生态湿地村
A5: 2 | C5: 望湖村 | D5: 100 | E5: 97.97 | F5: 100 | G5: 50 | H5: =F5-G5 -> 50 | I5: 0
A6: 3 | C6: 吴溇村 | D6: 100 | E6: 96.83 | F6: 100 | G6: 50 | H6: =F6-G6 -> 50 | I6: 0
A7: 小计 | D7: =SUM(D4:D6) -> 280 | F7: =SUM(F4:F6) -> 280 | G7: =SUM(G4:G6) -> 140 | H7: =SUM(H4:H6) -> 140 | I7: =SUM(I4:I6) -> 0
A8: 4 | B8: 震泽镇 | C8: 齐心村 | D8: 100 | E8: 95.4 | F8: 100 | H8: 50 | I8: 50 | J8: 省级湿地公园村
A9: 5 | C9: 金星村 | D9: 100 | E9: 94.84 | F9: 100 | H9: 50 | I9: 50
A10: 6 | C10: 众安桥村 | D10: 100 | E10: 95.67 | F10: 100 | H10: 50 | I10: 50
A11: 7 | C11: 三扇村 | D11: 100 | E11: 94.5 | F11: 100 | H11: 50 | I11: 50
A12: 小计 | D12: =SUM(D8:D11) -> 400 | F12: =SUM(F8:F11) -> 400 | G12: =SUM(G8:G11) -> 0 | H12: =SUM(H8:H11) -> 200 | I12: =SUM(I8:I11) -> 200
A13: 8 | B13: 吴江开发区 | C13: 白蚬湖村 | D13: 120 | E13: 97.33 | F13: 120 | H13: 60 | I13: 60 | J13: 国家级湿地公园村
A14: 9 | C14: 肖甸湖村 | D14: 120 | E14: 96.17 | F14: 120 | G14: 40 | H14: 60 | I14: 20 | J14: 国家级湿地公园村又是澄湖生态湿地村
A15: 10 | C15: 合心村 | D15: 80 | E15: 97.33 | F15: 80 | G15: 40 | H15: =F15-G15 -> 40 | I15: 0 | J15: 澄湖生态湿地村
A16: 小计 | D16: =SUM(D13:D15) -> 320 | F16: =SUM(F13:F15) -> 320 | G16: =SUM(G13:G15) -> 80 | H16: =SUM(H13:H15) -> 160 | I16: =SUM(I13:I15) -> 80
A17: 11 | B17: 汾湖高新区 | C17: 建南村 | D17: 80 | E17: 94.83 | F17: 80 | H17: 40 | I17: 40 | J17: 市级湿地公园村
A18: 12 | C18: 史北村 | D18: 80 | E18: 95.83 | F18: 80 | H18: 40 | I18: 40
A19: 13 | C19: 雄锋村 | D19: 80 | E19: 92.67 | F19: 80 | H19: 40 | I19: 40
A20: 14 | C20: 黎花村 | D20: 80 | E20: 95.33 | F20: 80 | H20: 40 | I20: 40
A21: 小计 | D21: =SUM(D17:D20) -> 320 | F21: =SUM(F17:F20) -> 320 | G21: =SUM(G17:G20) -> 0 | H21: =SUM(H17:H20) -> 160 | I21: =SUM(I17:I20) -> 160
A22: 15 | B22: 桃源镇 | C22: 严幕村 | D22: 100 | E22: 96.33 | F22: 100 | H22: 50 | I22: 50 | J22: 省级森林公园村
A23: 16 | C23: 仙南村 | D23: 100 | E23: 95.17 | F23: 100 | H23: 50 | I23: 50
A24: 17 | C24: 贤胡村 | D24: 100 | E24: 96.17 | F24: 100 | H24: 50 | I24: 50
A25: 18 | C25: 新蕾村 | D25: 100 | E25: 97.17 | F25: 100 | H25: 50 | I25: 50
A26: 小计 | D26: =SUM(D22:D25) -> 400 | F26: =SUM(F22:F25) -> 400 | G26: =SUM(G22:G25) -> 0 | H26: =SUM(H22:H25) -> 200 | I26: =SUM(I22:I25) -> 200
A27: 合 计 | D27: =D7+D12+D16+D21+D26 -> 1720 | F27: =F7+F12+F16+F21+F26 -> 1720 | G27: =G7+G12+G16+G21+G26 -> 220 | H27: =H7+H12+H16+H21+H26 -> 860 | I27: =I7+I12+I16+I21+I26 -> 640

Sheet 附件4生态公益林
A1: 附件4
A2: 吴江区2025年生态公益林补偿资金明细表
A3: 序号 | B3: 区镇 | C3: 面积 | D3: 补偿标准 （250元/亩） | E3: 补偿金额 （元） | F3: 已拨付 （元） | G3: 本次拨付 （元）
A4: 1 | B4: 吴江开发区 | C4: 7652.35 | D4: 250 | E4: =C4*D4 -> 1913087.5 | F4: 956600 | G4: =E4-F4 -> 956487.5
A5: 2 | B5: 汾湖高新区 （黎里镇） | C5: 7224.24 | D5: 250 | E5: =C5*D5 -> 1806060 | F5: 903000 | G5: =E5-F5 -> 903060
A6: 3 | B6: 吴江高新区 (盛泽镇) | C6: 2325.54 | D6: 250 | E6: =C6*D6 -> 581385 | F6: 290700 | G6: =E6-F6 -> 290685
A7: 4 | B7: 东太湖度假区 （太湖新城） | C7: 12847.68 | D7: 250 | E7: =C7*D7 -> 3211920 | F7: 1605900 | G7: =E7-F7 -> 1606020
A8: 5 | B8: 七都镇 | C8: 3344.33 | D8: 250 | E8: =C8*D8 -> 836082.5 | F8: 418000 | G8: =E8-F8 -> 418082.5
A9: 6 | B9: 桃源镇 | C9: 2476.78 | D9: 250 | E9: =C9*D9 -> 619195 | F9: 309600 | G9: =E9-F9 -> 309595
A10: 7 | B10: 震泽镇 | C10: 2487.29 | D10: 250 | E10: =C10*D10 -> 621822.5 | F10: 310900 | G10: =E10-F10 -> 310922.5
A11: 8 | B11: 平望镇 | C11: 3556.86 | D11: 250 | E11: =C11*D11 -> 889215 | F11: 444600 | G11: =E11-F11 -> 444615
A12: 合 计 | C12: =SUM(C4:C11) -> 41915.07 | E12: =SUM(E4:E11) -> 10478768 | F12: =SUM(F4:F11) -> 5239300 | G12: =SUM(G4:G11) -> 5239467.5

Sheet 附件5风景名胜区
A1: 附件5
A2: 吴江区2025年风景名胜区生态补偿资金明细表
A3: 序号 | B3: 镇(区) | C3: 补偿面积（亩） | D3: 补偿标准 (元/亩/年) | E3: 补偿金额 (万元) | F3: 已拨付 (万元) | G3: 本次拨付 （万元）
A4: 1 | B4: 吴江开发区 | C4: 10800 | D4: 150 | E4: 162 | F4: 81 | G4: =E4-F4 -> 81
A5: 合 计 | C5: 10800 | E5: 162 | F5: 81 | G5: 81
